BEGIN:VCALENDAR
VERSION:2.0
PRODID:-//Madita Warter Pianist - ECPv6.15.20//NONSGML v1.0//EN
CALSCALE:GREGORIAN
METHOD:PUBLISH
X-WR-CALNAME:Madita Warter Pianist
X-ORIGINAL-URL:https://madita-warter.com
X-WR-CALDESC:Veranstaltungen für Madita Warter Pianist
REFRESH-INTERVAL;VALUE=DURATION:PT1H
X-Robots-Tag:noindex
X-PUBLISHED-TTL:PT1H
BEGIN:VTIMEZONE
TZID:UTC
BEGIN:STANDARD
TZOFFSETFROM:+0000
TZOFFSETTO:+0000
TZNAME:UTC
DTSTART:20240101T000000
END:STANDARD
END:VTIMEZONE
BEGIN:VEVENT
DTSTART;TZID=UTC:20250719T110000
DTEND;TZID=UTC:20250719T110000
DTSTAMP:20260423T181826
CREATED:20250718T212428Z
LAST-MODIFIED:20250722T212531Z
UID:421-1752922800-1752922800@madita-warter.com
SUMMARY:Konzert der Preisträger*innen
DESCRIPTION:(Fest zur Festspieleröffnung) Krönender Abschluss jeder Kursperiode der Internationalen Sommerakademie ist ein Wettbewerbsformat\, bei dem die besten Studierenden der Woche vor einer Jury ihr Können zum Besten geben. Am Ende gehen die besten drei Musiker*innen als Preisträger*innen der Woche hervor.
URL:https://madita-warter.com/event/konzert-der-preistraegerinnen/
LOCATION:Solitär Universität Mozarteum Salzburg\, Salzburg\, 5020\, Austria
CATEGORIES:Nachwuchsförderung,Piano solo
END:VEVENT
BEGIN:VEVENT
DTSTART;TZID=UTC:20250723T193000
DTEND;TZID=UTC:20250723T193000
DTSTAMP:20260423T181826
CREATED:20250722T211857Z
LAST-MODIFIED:20250722T212454Z
UID:426-1753299000-1753299000@madita-warter.com
SUMMARY:Donau Serenade: Kammermusik im Fluss
DESCRIPTION:Lehrende und Teilnehmende der isa25 spielen Kammermusik zum Thema Wasser/Musik der Donauländer \nEine Veranstaltung der mdw – Universität für Musik und darstellende Kunst Wien in Kooperation mit der Stadt Wien/Wiener Wasser
URL:https://madita-warter.com/event/donau-serenade-kammermusik-im-fluss/
LOCATION:Alte Schieberkammer Meiselstraße 20\, 1150 Wien\, 1150\, Austria
CATEGORIES:Nachwuchsförderung,Piano solo
END:VEVENT
END:VCALENDAR