BEGIN:VCALENDAR
VERSION:2.0
PRODID:-//Madita Warter Pianist - ECPv6.15.20//NONSGML v1.0//EN
CALSCALE:GREGORIAN
METHOD:PUBLISH
X-ORIGINAL-URL:https://madita-warter.com
X-WR-CALDESC:Veranstaltungen für Madita Warter Pianist
REFRESH-INTERVAL;VALUE=DURATION:PT1H
X-Robots-Tag:noindex
X-PUBLISHED-TTL:PT1H
BEGIN:VTIMEZONE
TZID:UTC
BEGIN:STANDARD
TZOFFSETFROM:+0000
TZOFFSETTO:+0000
TZNAME:UTC
DTSTART:20240101T000000
END:STANDARD
END:VTIMEZONE
BEGIN:VEVENT
DTSTART;TZID=UTC:20250816T200000
DTEND;TZID=UTC:20250816T220000
DTSTAMP:20260423T181449
CREATED:20250809T065732Z
LAST-MODIFIED:20250809T065732Z
UID:378-1755374400-1755381600@madita-warter.com
SUMMARY:O/Modernt New Generation Symphony Orchestra- Young Euro Classic
DESCRIPTION:Titel: O/Modernt New Generation Symphony Orchestra – Young Classic EuropeDatum: Freitag\, 16. August 2025Uhrzeit: 20:00 – 22:00 UhrOrt: Konzerthaus Berlin\, GendarmenmarktBeschreibung:Ein ganz besonderes musikalisches Erlebnis im Rahmen von Young Euro Classic: Das O/Modernt New Generation Symphony Orchestra bringt frischen Wind in die klassische Musik. Madita Warter am  Orchesterklavier – klanglich spannend\, innovativ und international hochkarätig. \nProgram: \n\nKarl Amadeus Hartmann Fantasie \nGiovanni Gabrieli Sacrae symphoniae (selection) \nJohannes Brahms orchestrated by Luciano Berio Clarinet Sonata No. 1 in F Minor Op. 120 \nIII. Allegretto grazioso \nIV. Vivace \nJohn Adams Tromba Longnana \nGiora Feidman Freylach – Let’s Be Happy \n\n–Interval – \n\nAlbert Schnelzer Through the Eye of the Pegasus (2021) \nAaron Copland Appalachian Spring
URL:https://madita-warter.com/event/o-modernt-new-generation-symphony-orchestra-young-euro-classic/
LOCATION:Konzerthaus Berlin\, Gendarmenmarkt\, Berlin
CATEGORIES:Mitwirkung,Nachwuchsförderung,Orchesterklavier
END:VEVENT
END:VCALENDAR